BEGIN:VCALENDAR
VERSION:2.0
PRODID:-//eventon.com NONSGML v1.0//EN
CALSCALE:GREGORIAN
METHOD:PUBLISH
BEGIN:VEVENT
UID:69ecbaec2c8bd
DTSTAMP:20260425T130028Z
DTSTART:20170329T190000Z
DTEND:20170329T220000Z
LOCATION:filmArche Lahnstraße 25
SUMMARY:filmArche to Filmbranche - mit Alex Bloom\,  DoP
DESCRIPTION:Alex Bloom studierte Informations- und Medientechnik bevor er a
 b 2006 vier Jahre in der Kameraklasse der filmArche das Filmhandwerk lernte
 . In den folgenden Jahren konnte er sich als Freelancer in der Branche etab
 lieren und bei einer stolzen Zahl an verschiedensten Projekten mitwirken. S
 o stand er bspw. 2012 beim mehrfach ausgezeichneten[..]\nhttps://www.filmar
 che.de/events/filmarche-to-filmbranche-mit-alex-bloom-dop/
URL:https://www.filmarche.de/events/filmarche-to-filmbranche-mit-alex-bloom-dop/
END:VEVENT
END:VCALENDAR