BEGIN:VCALENDAR
VERSION:2.0
PRODID:-//eventon.com NONSGML v1.0//EN
CALSCALE:GREGORIAN
METHOD:PUBLISH
BEGIN:VEVENT
UID:69eb0efea703a
DTSTAMP:20260424T063438Z
DTSTART:20171104T100000Z
DTEND:20171105T180000Z
LOCATION:filmArche Lahnstraße 25
SUMMARY:Independent film production from A-Z
DESCRIPTION:Independent filmmaking is not about making ‘cheap’ films wi
 thout paying cast and crew. It is about being non-commercial\,  in a world 
 ruled by money. To do that successfully\,  you don’t only need passion\, 
  you need to know the ‘know how’. This workshop aims to present and dis
 cuss all steps of[..]\nhttps://www.filmarche.de/events/independent-film-pro
 duction-from-a-z/
URL:https://www.filmarche.de/events/independent-film-production-from-a-z/
END:VEVENT
END:VCALENDAR