BEGIN:VCALENDAR
VERSION:2.0
PRODID:-//eventon.com NONSGML v1.0//EN
CALSCALE:GREGORIAN
METHOD:PUBLISH
BEGIN:VEVENT
UID:69eb601e184fc
DTSTAMP:20260424T122046Z
DTSTART:20190427T100000Z
DTEND:20190428T180000Z
LOCATION:filmArche Lahnstraße 25
SUMMARY:Advancing in DaVinci Resolve with Sergi Sanchez
DESCRIPTION:In this workshop we will explore different grading tools to mak
 e our footage shine. From DSLR to RED or Alexa\,  we cover how to take the 
 best out of the cameras and codecs we are using. We will also cover the use
  of LUTs and how can we integrate them[..]\nhttps://www.filmarche.de/events
 /advancing-in-davinci-resolve-with-sergi-sanchez/
URL:https://www.filmarche.de/events/advancing-in-davinci-resolve-with-sergi-sanchez/
END:VEVENT
END:VCALENDAR