BEGIN:VCALENDAR
VERSION:2.0
PRODID:-//eventon.com NONSGML v1.0//EN
CALSCALE:GREGORIAN
METHOD:PUBLISH
BEGIN:VEVENT
UID:69e5386936d80
DTSTAMP:20260419T201745Z
DTSTART:20190403T190000Z
DTEND:20190403T220000Z
LOCATION:filmArche Lahnstraße 25
SUMMARY:Burkinabè Rising - the Art of Resistance in Burkina Faso
DESCRIPTION:Trailer: https://culturesofresistancefilms.com/burkinabe-rising
  Language &#8211; French with English subtitles Burkinabè Rising\,  a new 
 documentary from Cultures of Resistance Films\,  showcases creative nonviol
 ent resistance in Burkina Faso. A small\,  landlocked country in West Afric
 a\,  Burkina Faso is home to a vibrant community of artists and engaged cit
 izens\,  who provide an example of[..]\nhttps://www.filmarche.de/events/bur
 kinabe-rising-the-art-of-resistance-in-burkina-faso/
URL:https://www.filmarche.de/events/burkinabe-rising-the-art-of-resistance-in-burkina-faso/
END:VEVENT
END:VCALENDAR