BEGIN:VCALENDAR
VERSION:2.0
PRODID:-//eventon.com NONSGML v1.0//EN
CALSCALE:GREGORIAN
METHOD:PUBLISH
BEGIN:VEVENT
UID:69e57912f333a
DTSTAMP:20260420T005338Z
DTSTART:20190424T190000Z
DTEND:20190424T220000Z
LOCATION:filmArche (Seminarraum 1) Lahnstraße 25
SUMMARY:AKTZEICHNEN // LIFE DRAWING SESSION WITH NUDE MODEL
DESCRIPTION:(english below) Die filmArche lädt ein zu einer gemütlichen\,
   anspruchslosen Aktzeichnen Runde. Es wird kein/e Lehrer*in da sein\,  daf
 ür gibt’s Musik und Kekse. Aktzeichnen ist eine tolle Möglichkeit sein 
 Auge zu schulen &#8211; sowohl für ein Motiv als Ganzes als auch fürs Det
 ail &#8211; und damit auch für Filmemacher*innen interessant.[..]\nhttps:/
 /www.filmarche.de/events/aktzeichnen-life-drawing-session-with-nude-model/
URL:https://www.filmarche.de/events/aktzeichnen-life-drawing-session-with-nude-model/
END:VEVENT
END:VCALENDAR