BEGIN:VCALENDAR
VERSION:2.0
PRODID:-//eventon.com NONSGML v1.0//EN
CALSCALE:GREGORIAN
METHOD:PUBLISH
BEGIN:VEVENT
UID:69e6e40eea50d
DTSTAMP:20260421T024222Z
DTSTART:20190605T190000Z
DTEND:20190605T220000Z
LOCATION:filmArche Lahnstraße 25
SUMMARY:Geschichten des Films Teil 9 von 10 / Historys of the film
DESCRIPTION:(englisch below) Geschichte(n) des Films Teil 9 von 10 Andreas 
 Jacke https://de.wikipedia.org/wiki/Andreas_Jacke 05. 06. 2019\,  um 19 Uhr
 \,  im Foyer filmArche\,  Lahnstraße 25\,  12055 Berlin Die Vorträge find
 en sich auf Deutsch statt. 9. Die 00er Jahre: Die Dehnung der Zeit und die 
 Vielfalt der Bilder – 4 avantgardistische Filmprojekte und[..]\nhttps://w
 ww.filmarche.de/events/geschichten-des-films-teil-9-von-10-historys-of-the-
 film/
URL:https://www.filmarche.de/events/geschichten-des-films-teil-9-von-10-historys-of-the-film/
END:VEVENT
END:VCALENDAR