BEGIN:VCALENDAR
VERSION:2.0
PRODID:-//eventon.com NONSGML v1.0//EN
CALSCALE:GREGORIAN
METHOD:PUBLISH
BEGIN:VEVENT
UID:69eb134ca29b9
DTSTAMP:20260424T065300Z
DTSTART:20220223T193000Z
DTEND:20220223T220000Z
LOCATION:filmArche Lahnstraße 25
SUMMARY:23/02 19h30 Consent factory: lesbo-queer perspectives
DESCRIPTION:(deutsch version unten) Hello Archeuniverse\,  We are pleased t
 o invite you on (he 23nd February at 7:30pm for a screening of the film &#8
 222;Consent factory: lesbo-queer perspectives&#8220; followed by a online d
 iscussion with the director Mathilde Capone. The event can be reached both 
 at Filmarche with the 2G+test regulations or[..]\nhttps://www.filmarche.de/
 events/23-02-19h30-consent-factory-lesbo-queer-perspectives/
URL:https://www.filmarche.de/events/23-02-19h30-consent-factory-lesbo-queer-perspectives/
END:VEVENT
END:VCALENDAR