BEGIN:VCALENDAR
VERSION:2.0
PRODID:-//eventon.com NONSGML v1.0//EN
CALSCALE:GREGORIAN
METHOD:PUBLISH
BEGIN:VEVENT
UID:69e70a44165fd
DTSTAMP:20260421T052524Z
DTSTART:20220313T140000Z
DTEND:20220313T160000Z
LOCATION:Zoom
SUMMARY:Studieren an der filmArche - Online Infoevent - 13. März 2022
DESCRIPTION:[english below] WICHTIG: Dies ist auschließlich eine Online-Ve
 ranstaltung! Am 13.03. um 14:00 Uhr lädt die filmArche zu einer online Inf
 overanstaltung ein! Wir möchten euch eine allgemeine Einführung zum Studi
 um an der filmArche geben. Was bedeutet es selbstorganisiert zu studieren u
 nd wie sieht das in der Praxis aus? Außerdem werden wir[..]\nhttps://www.f
 ilmarche.de/events/studieren-filmarche-infoevent-2022-13-03/
URL:https://www.filmarche.de/events/studieren-filmarche-infoevent-2022-13-03/
END:VEVENT
END:VCALENDAR