BEGIN:VCALENDAR
VERSION:2.0
PRODID:-//eventon.com NONSGML v1.0//EN
CALSCALE:GREGORIAN
METHOD:PUBLISH
BEGIN:VEVENT
UID:69e5265268b94
DTSTAMP:20260419T190034Z
DTSTART:20240222T060000Z
DTEND:20240222T090000Z
LOCATION:filmArche Lahnstraße 25
SUMMARY:Part 1: Die Anfänge des Kinos / The Origins of Story
DESCRIPTION:TEIL I: VON DEN ANFÄNGEN DES STORYTELLINGS ZU DEN TRÄUMEN DES
  STUMMFILM-KINOS Kommt auf eine Zeitreise zu den nebligen Ursprüngen des G
 eschichtenerzählens bis zur Geburt des Kinos. Der erste Teil des jährlich
 en filmArche-Filmgeschichte-Marathons führt euch von den alten Erzählunge
 n der ersten Zivilisationen über die Mysterien des griechischen Theaters u
 nd die[..]\nhttps://www.filmarche.de/events/part-1-filmgeschichte-marathon-
 movie-history-marathon/
URL:https://www.filmarche.de/events/part-1-filmgeschichte-marathon-movie-history-marathon/
END:VEVENT
END:VCALENDAR