BEGIN:VCALENDAR
VERSION:2.0
PRODID:-//eventon.com NONSGML v1.0//EN
CALSCALE:GREGORIAN
METHOD:PUBLISH
BEGIN:VEVENT
UID:69e52a1f1a920
DTSTAMP:20260419T191647Z
DTSTART:20240307T060000Z
DTEND:20240307T090000Z
LOCATION:filmArche Lahnstraße 25
SUMMARY:Part 3: Aufstieg des Weltkinos / Rise of World Cinema
DESCRIPTION:TEIL III: DER AUFSTIEG DES WELTKINOS UND DIE WELLE DER NEUEN WE
 LLEN In den transformativen 1950er und 1960er Jahren beginnen sich die Geze
 iten des Kinos zu ändern. Aufstrebende Filmnationen wie Japan\,  Indien un
 d Schweden hinterlassen tiefe Spuren auf der globalen Bühne\,  indem sie w
 estliche Kinotraditionen in ihre eigenen reichen Erzählteppiche[..]\nhttps
 ://www.filmarche.de/events/part-3-filmgeschichte-marathon-movie-history-mar
 athon/
URL:https://www.filmarche.de/events/part-3-filmgeschichte-marathon-movie-history-marathon/
END:VEVENT
END:VCALENDAR