BEGIN:VCALENDAR
VERSION:2.0
PRODID:-//eventon.com NONSGML v1.0//EN
CALSCALE:GREGORIAN
METHOD:PUBLISH
BEGIN:VEVENT
UID:69e5298ba95d6
DTSTAMP:20260419T191419Z
DTSTART:20240314T060000Z
DTEND:20240314T090000Z
LOCATION:filmArche Lahnstraße 25
SUMMARY:Part 4: Zukunft des Kinos / Future of Cinema
DESCRIPTION:TEIL IV: HIGH CONCEPT\,  MIND-BENDERS UND DIE ZUKUNFT DES KINOS
  &#8211; FREITAGS Im letzten Akt des filmArche-Filmgeschichte-Marathons wer
 den wir Zeugen des Erfolgs des High Concept Blockbuster-Films der 1980er. D
 iese innovative Filmformel vereinfacht die komplexen Erzählstrukturen frü
 herer Jahrzehnte und setzt auf starke\,  leicht konsumierbare Geschichten\,
   lebendige Welten und verdichtete Ikonographie. Gleichzeitig[..]\nhttps://
 www.filmarche.de/events/part-4-filmgeschichte-marathon-movie-history-marath
 on/
URL:https://www.filmarche.de/events/part-4-filmgeschichte-marathon-movie-history-marathon/
END:VEVENT
END:VCALENDAR