BEGIN:VCALENDAR
VERSION:2.0
PRODID:-//eventon.com NONSGML v1.0//EN
CALSCALE:GREGORIAN
METHOD:PUBLISH
BEGIN:VEVENT
UID:69ea341b55d81
DTSTAMP:20260423T150043Z
DTSTART:20260429T183000Z
DTEND:20260429T233000Z
LOCATION:
SUMMARY:Palliativstation + Q&A with Director Philipp Döring
DESCRIPTION:The documentary “Palliativstation” offers a glimpse into da
 ily life on the palliative care ward at Franziskus Hospital in Berlin. How 
 do terminally ill patients face death? And how can we help them make the mo
 st of the time they have left? The Film was part of Berlinale Forum last ye
 ar[..]\nhttps://www.filmarche.de/events/palliativstation-qa-with-director-p
 hilipp-doering/
URL:https://www.filmarche.de/events/palliativstation-qa-with-director-philipp-doering/
END:VEVENT
END:VCALENDAR