BEGIN:VCALENDAR
VERSION:2.0
PRODID:-//eventon.com NONSGML v1.0//EN
CALSCALE:GREGORIAN
METHOD:PUBLISH
BEGIN:VEVENT
UID:69ea34e567699
DTSTAMP:20260423T150405Z
DTSTART:20260506T190000Z
DTEND:20260506T210000Z
LOCATION:
SUMMARY:To be young in a world that’s burning + Q&A with Director Jaime Musso
DESCRIPTION:How does it feel to be young in the midst of late-stage capital
 ism\,  with a looming climate catastrophe and an ongoing genocide? Filmmake
 r Jaime decides to turn to film’s revolutionary and healing power\,  enga
 ging in a meta-exploration of how documentaries can be used to catalyze cha
 nge. The result of this[..]\nhttps://www.filmarche.de/events/to-be-young-in
 -a-world-thats-burning-qa-with-director-jaime-musso/
URL:https://www.filmarche.de/events/to-be-young-in-a-world-thats-burning-qa-with-director-jaime-musso/
END:VEVENT
END:VCALENDAR